BEGIN:VCALENDAR
VERSION:2.0
PRODID:-//Faculty of Management &amp; Finance
CALSCALE:GREGORIAN
METHOD:PUBLISH
X-WR-CALNAME:Faculty of Management &amp; Finance
X-ORIGINAL-URL:https://mgmt.cmb.ac.lk/event/the-inauguration-for-the-diploma-in-small-business-management
X-WR-CALDESC:The Inauguration for the Diploma in Small Business Management
BEGIN:VEVENT
DTSTART:
DTEND:
SUMMARY:The Inauguration for the Diploma in Small Business Management
DESCRIPTION:
LOCATION:Faculty of Management & Finance, University of Colombo  
END:VEVENT
END:VCALENDAR
