BEGIN:VCALENDAR
VERSION:2.0
PRODID:-//Faculty of Management &amp; Finance
CALSCALE:GREGORIAN
METHOD:PUBLISH
X-WR-CALNAME:Faculty of Management &amp; Finance
X-ORIGINAL-URL:https://mgmt.cmb.ac.lk/event/emporio-2-0-mos-day-2023
X-WR-CALDESC:Emporio 2.0- MOS Day 2023
BEGIN:VEVENT
DTSTART:
DTEND:
SUMMARY:Emporio 2.0- MOS Day 2023
DESCRIPTION:
LOCATION:
END:VEVENT
END:VCALENDAR
